BEGIN:VCALENDAR
PRODID:-//AT Content Types//AT Event//EN
VERSION:2.0
METHOD:PUBLISH
BEGIN:VEVENT
DTSTAMP:20260421T082736Z
CREATED:20250323T111427Z
UID:ATEvent-c8257bc2bb70d433478598ac05fea83d
LAST-MODIFIED:20251103T164422Z
SUMMARY:...\, fruchbarer Austausch\: Gartentreffen im Café Aufbruch
DTSTART:20251111T140000Z
DTEND:20251111T170000Z
DESCRIPTION:Lebendiger Boden\, gesunde Nahrung\, fruchtbarer Austausch
 .
LOCATION:Café Aufbruch\, Hintere Schildstr. 18\, Dortmund-Hörde
CATEGORIES:Vortrag,Gesprächsrunde
CLASS:PUBLIC
END:VEVENT
END:VCALENDAR
