BEGIN:VCALENDAR
PRODID:-//AT Content Types//AT Event//EN
VERSION:2.0
METHOD:PUBLISH
BEGIN:VEVENT
DTSTAMP:20260421T112414Z
CREATED:20251025T155221Z
UID:ATEvent-6bcf8e3c0ff0dcbebe6c2a3bc01466b9
LAST-MODIFIED:20251025T160227Z
SUMMARY:Einladung zur Geschichtswerkstatt
DTSTART:20251105T180000Z
DTEND:20251105T180000Z
DESCRIPTION:Thema heute\:  "Die 13 vom Marksbach -\nDie Geschichte des
  Hörder Aquarien- und Terrarienvereins am Marksbach“
LOCATION:Café Aufbruch\, Hintere Schildstr. 18\, Dortmund-Hörde
CATEGORIES:Geschichtswerkstatt
CLASS:PUBLIC
END:VEVENT
END:VCALENDAR
