BEGIN:VCALENDAR
PRODID:-//AT Content Types//AT Event//EN
VERSION:2.0
METHOD:PUBLISH
BEGIN:VEVENT
DTSTAMP:20260421T112354Z
CREATED:20250921T132104Z
UID:ATEvent-c397c470e4dad0327cae13f301f32bf6
LAST-MODIFIED:20250921T132707Z
SUMMARY:Erzählnachmittag
DTSTART:20251028T143000Z
DTEND:20251028T160000Z
DESCRIPTION:Erzählte „Indianer“ - Geschichte\: „Begegnungen“ 
 Maryann und Falkenfeder
LOCATION:Café Aufbruch\, Hintere Schildstr. 18\, Dortmund-Hörde
CLASS:PUBLIC
END:VEVENT
END:VCALENDAR
