BEGIN:VCALENDAR
PRODID:-//AT Content Types//AT Event//EN
VERSION:2.0
METHOD:PUBLISH
BEGIN:VEVENT
DTSTAMP:20260421T095940Z
CREATED:20250323T111427Z
UID:ATEvent-5aed7ec6aad472cb55fe0e7fc9a4faa2
LAST-MODIFIED:20251010T135646Z
SUMMARY:...\, fruchbarer Austausch\: Gartentreffen im Café Aufbruch
DTSTART:20251014T130000Z
DTEND:20251014T160000Z
DESCRIPTION:Lebendiger Boden\, gesunde Nahrung\, fruchtbarer Austausch
 .
LOCATION:Café Aufbruch\, Hintere Schildstr. 18\, Dortmund-Hörde
CATEGORIES:Gesprächsrunde
CLASS:PUBLIC
END:VEVENT
END:VCALENDAR
