BEGIN:VCALENDAR
PRODID:-//AT Content Types//AT Event//EN
VERSION:1.0
BEGIN:VEVENT
DTSTART:20251005T130000Z
DTEND:20251005T130000Z
DCREATED:20250921T131551Z
UID:ATEvent-4a42d0506af7c2a9546e706e5bc80aa7
SEQUENCE:0
LAST-MODIFIED:20250921T132658Z
SUMMARY:Ausstellungseröffnung "Landschaft-Die schweigende Freundin"
DESCRIPTION:Werke von Elisabeth Lehmköster
LOCATION:Ihre künstlerische Tätigkeit ist bestimmt vom Interesse an dem Verhältnis von Natur und Kultur. Sie malt Landschaften in vielfältigen Darstellungs- und Ausdrucksformen. Finissage\: Sonntag\, 16. 11. um 16 Uhr
PRIORITY:3
TRANSP:0
END:VEVENT
END:VCALENDAR
