BEGIN:VCALENDAR
PRODID:-//AT Content Types//AT Event//EN
VERSION:2.0
METHOD:PUBLISH
BEGIN:VEVENT
DTSTAMP:20260421T112817Z
CREATED:20250921T131004Z
UID:ATEvent-647d60a1b498d8175abcf60538199339
LAST-MODIFIED:20250921T131019Z
SUMMARY:Die Geschichtswerkstatt lädt ein.
DTSTART:20251001T170000Z
DTEND:20251001T190000Z
DESCRIPTION:Thema heute\: Dortmunder Politik gegenüber drogengebrauch
 enden Menschen
LOCATION:Café Aufbruch\, Hintere Schildstr. 18\, Dortmund-Hörde
CATEGORIES:Geschichtswerkstatt
CLASS:PUBLIC
END:VEVENT
END:VCALENDAR
