BEGIN:VCALENDAR
PRODID:-//AT Content Types//AT Event//EN
VERSION:1.0
BEGIN:VEVENT
DTSTART:20250911T073000Z
DTEND:20250911T100000Z
DCREATED:20250819T130257Z
UID:ATEvent-8019d9c43a304d4e651ae2126b943f6b
SEQUENCE:0
LAST-MODIFIED:20250905T202050Z
SUMMARY:Gemeinsam genießen und Energie tanken – Frühstücksangebot für  Pflegebedürftige und ihre Angehörigen
LOCATION:Café Aufbruch\, Hintere Schildstr. 18\, Dortmund-Hörde
PRIORITY:3
TRANSP:0
END:VEVENT
END:VCALENDAR
