BEGIN:VCALENDAR
PRODID:-//AT Content Types//AT Event//EN
VERSION:1.0
BEGIN:VEVENT
DTSTART:20250909T130000Z
DTEND:20250909T160000Z
DCREATED:20250323T111427Z
UID:ATEvent-2c5f3933889ae96598f6dbda2abec5be
SEQUENCE:0
LAST-MODIFIED:20250905T202958Z
SUMMARY:...\, fruchbarer Austausch\: Gartentreffen im Café Aufbruch
DESCRIPTION:Lebendiger Boden\, gesunde Nahrung\, fruchtbarer Austausch
 .
LOCATION:Café Aufbruch\, Hintere Schildstr. 18\, Dortmund-Hörde
PRIORITY:3
TRANSP:0
END:VEVENT
END:VCALENDAR
