BEGIN:VCALENDAR
PRODID:-//AT Content Types//AT Event//EN
VERSION:1.0
BEGIN:VEVENT
DTSTART:20250830T130000Z
DTEND:20250830T160000Z
DCREATED:20250724T095012Z
UID:ATEvent-0ddfa3e773a6755d670777274cf5bf41
SEQUENCE:0
LAST-MODIFIED:20250827T144350Z
SUMMARY:Unser Sommerfest –  19 Jahre Café Aufbruch
DESCRIPTION:Mit Flohmarkt\, Waffeln\, Reibekuchen und frischgepresstem
  Saft.
LOCATION:Café Aufbruch\, Hintere Schildstr. 18\, Dortmund-Hörde
PRIORITY:3
TRANSP:0
END:VEVENT
END:VCALENDAR
