BEGIN:VCALENDAR
PRODID:-//AT Content Types//AT Event//EN
VERSION:2.0
METHOD:PUBLISH
BEGIN:VEVENT
DTSTAMP:20260421T111128Z
CREATED:20250724T094801Z
UID:ATEvent-1aa1ac060b0be5ee2f4d429a1cc713b4
LAST-MODIFIED:20250724T095023Z
SUMMARY:Ausstellungseröffnung – Patchworkausstellung
DTSTART:20250808T140000Z
DTEND:20250808T140000Z
DESCRIPTION:Die Montagsgruppe eröffnet eine Ausstellung mit Pachworka
 rbeiten und\nSteinskulpturen
LOCATION:Café Aufbruch\, Hintere Schildstr. 18\, Dortmund-Hörde
CATEGORIES:Ausstellung
CLASS:PUBLIC
END:VEVENT
END:VCALENDAR
