BEGIN:VCALENDAR
PRODID:-//AT Content Types//AT Event//EN
VERSION:2.0
METHOD:PUBLISH
BEGIN:VEVENT
DTSTAMP:20260421T112821Z
CREATED:20250626T061104Z
UID:ATEvent-512300fb1db3fe1ef20990d77b82d5ea
LAST-MODIFIED:20250720T210426Z
SUMMARY:Die Geschichtswerkstatt lädt ein\: "minderwertig asozial erbbelastet"
DTSTART:20250806T170000Z
DTEND:20250806T190000Z
DESCRIPTION:"minderwertig asozial erbbelastet" - Die Verfolgung der Be
 ttler\:innen 1933
LOCATION:Café Aufbruch\, Hintere Schildstr. 18\, Dortmund-Hörde
CATEGORIES:Vortrag mit Diskussion,Geschichtswerkstatt,publish@dortmund-initiativ
CLASS:PUBLIC
END:VEVENT
END:VCALENDAR
