BEGIN:VCALENDAR
PRODID:-//AT Content Types//AT Event//EN
VERSION:2.0
METHOD:PUBLISH
BEGIN:VEVENT
DTSTAMP:20260421T082857Z
CREATED:20250530T112550Z
UID:ATEvent-0651e6fe7da167e8f6232afb5f4dc838
LAST-MODIFIED:20250602T140607Z
SUMMARY:Workshop Urban Sketching - für Anfänger und Fortgeschrittene
DTSTART:20250621T080000Z
DTEND:20250621T110000Z
DESCRIPTION:Samstag\, den 14. 06. und 21. 06. von 10 bis 13 Uhr
LOCATION:Café Aufbruch\, Hintere Schildstr. 18\, Dortmund-Hörde
CATEGORIES:Workshop
CLASS:PUBLIC
END:VEVENT
END:VCALENDAR
