BEGIN:VCALENDAR
PRODID:-//AT Content Types//AT Event//EN
VERSION:2.0
METHOD:PUBLISH
BEGIN:VEVENT
DTSTAMP:20260421T082411Z
CREATED:20250530T112747Z
UID:ATEvent-0b0d9ec18e7d970d3d51d14f9641503e
LAST-MODIFIED:20250530T112818Z
SUMMARY:Vernissage\: NATUR-STRUKTUR
DTSTART:20250615T140000Z
DTEND:20250615T140000Z
DESCRIPTION:Doppelausstellung von Anne-Katrin\nOstermeyer und Irmgard 
 Manz
LOCATION:Café Aufbruch\, Hintere Schildstr. 18\, Dortmund-Hörde
CATEGORIES:Ausstellung
CLASS:PUBLIC
END:VEVENT
END:VCALENDAR
