BEGIN:VCALENDAR
PRODID:-//AT Content Types//AT Event//EN
VERSION:2.0
METHOD:PUBLISH
BEGIN:VEVENT
DTSTAMP:20260421T112735Z
CREATED:20250530T112136Z
UID:ATEvent-dc15d4c1afbe63bb5bd9b5f7a93865dd
LAST-MODIFIED:20250530T112823Z
SUMMARY:Finissage - Stahlgeister und ein Hai
DTSTART:20250612T170000Z
DTEND:20250612T170000Z
DESCRIPTION:Ausstellung von Franz Josef Oberkönig
LOCATION:Café Aufbruch\, Hintere Schildstr. 18\, Dortmund-Hörde
CATEGORIES:Ausstellung
CLASS:PUBLIC
END:VEVENT
END:VCALENDAR
