BEGIN:VCALENDAR
PRODID:-//AT Content Types//AT Event//EN
VERSION:1.0
BEGIN:VEVENT
DTSTART:20250610T170000Z
DTEND:20250610T170000Z
DCREATED:20250530T112017Z
UID:ATEvent-66e2a11a6d4b130d96ec3c88267992dd
SEQUENCE:0
LAST-MODIFIED:20250530T112826Z
SUMMARY:Der „Harte Hans“ Rockband unplugged
LOCATION:Café Aufbruch\, Hintere Schildstr. 18\, Dortmund-Hörde
PRIORITY:3
TRANSP:0
END:VEVENT
END:VCALENDAR
