BEGIN:VCALENDAR
PRODID:-//AT Content Types//AT Event//EN
VERSION:1.0
BEGIN:VEVENT
DTSTART:20250604T170000Z
DTEND:20250604T170000Z
DCREATED:20250530T111439Z
UID:ATEvent-15056018a36cca00c85b1c7c7005722b
SEQUENCE:0
LAST-MODIFIED:20250530T112832Z
SUMMARY:Vernissage\: Stahlgeister und ein Hai
DESCRIPTION:Ausstellung von Franz Josef Oberkönig
LOCATION:Café Aufbruch\, Hintere Schildstr. 18\, Dortmund-Hörde
PRIORITY:3
TRANSP:0
END:VEVENT
END:VCALENDAR
