BEGIN:VCALENDAR
PRODID:-//AT Content Types//AT Event//EN
VERSION:2.0
METHOD:PUBLISH
BEGIN:VEVENT
DTSTAMP:20260421T112532Z
CREATED:20250530T111223Z
UID:ATEvent-9ebc4e47b23dc2d354de2c3515ffa3a3
LAST-MODIFIED:20250530T112835Z
SUMMARY:Finissage - Bilder zu Dortmunder Vororten
DTSTART:20250601T150000Z
DTEND:20250601T150000Z
LOCATION:Café Aufbruch\, Hintere Schildstr. 18\, Dortmund-Hörde
CATEGORIES:Ausstellung
CLASS:PUBLIC
END:VEVENT
END:VCALENDAR
