BEGIN:VCALENDAR
PRODID:-//AT Content Types//AT Event//EN
VERSION:2.0
METHOD:PUBLISH
BEGIN:VEVENT
DTSTAMP:20260421T112657Z
CREATED:20250424T135045Z
UID:ATEvent-9c8c7c4e150a7a8dc44355d2dde26bc0
LAST-MODIFIED:20250424T135114Z
SUMMARY:Ausstellungseröffnung - Bilder zu Dortmunder Vororten
DTSTART:20250504T150000Z
DTEND:20250504T150000Z
LOCATION:Café Aufbruch\, Hintere Schildstr. 18\, Dortmund-Hörde
CATEGORIES:Ausstellung
CLASS:PUBLIC
END:VEVENT
END:VCALENDAR
