BEGIN:VCALENDAR
PRODID:-//AT Content Types//AT Event//EN
VERSION:2.0
METHOD:PUBLISH
BEGIN:VEVENT
DTSTAMP:20260421T083221Z
CREATED:20250323T110845Z
UID:ATEvent-3ac31378d4b905812cc82bfaf993785a
LAST-MODIFIED:20250323T111445Z
SUMMARY:Ausstellungseröffnung –  Göttinnen und andere Gestalten
DTSTART:20250427T090000Z
DTEND:20250427T090000Z
DESCRIPTION:Mit kleinem Brunch.
LOCATION:Café Aufbruch\, Hintere Schildstr. 18\, Dortmund-Hörde
CATEGORIES:Ausstellung
CLASS:PUBLIC
END:VEVENT
END:VCALENDAR
