BEGIN:VCALENDAR
PRODID:-//AT Content Types//AT Event//EN
VERSION:1.0
BEGIN:VEVENT
DTSTART:20250408T130000Z
DTEND:20250408T130000Z
DCREATED:20250323T111427Z
UID:ATEvent-facc2ac49dc4cf44f25888165c0ebd9f
SEQUENCE:0
LAST-MODIFIED:20250323T111448Z
SUMMARY:Lebendiger Boden\, gesunde Nahrung\, fruchtbarer Austausch
LOCATION:Café Aufbruch\, Hintere Schildstr. 18\, Dortmund-Hörde
PRIORITY:3
TRANSP:0
END:VEVENT
END:VCALENDAR
