BEGIN:VCALENDAR
PRODID:-//AT Content Types//AT Event//EN
VERSION:1.0
BEGIN:VEVENT
DTSTART:20250324T150000Z
DTEND:20250324T163000Z
DCREATED:20250228T165350Z
UID:ATEvent-9d05e632b69136123105461a233de5d1
SEQUENCE:0
LAST-MODIFIED:20250228T165355Z
SUMMARY:„Leise zieht durch mein Gemüt liebliches Geläute - Klinge kleines Frühlingslied\, kling hinaus ins Weite.“
DESCRIPTION:Märchenhafte Geschichten von der Kraft und Lebensfreude d
 es Frühlings.\nVorgelesen und erzählt von Katja Lämmerhirt
LOCATION:Café Aufbruch\, Hintere Schildstr. 18\, Dortmund-Hörde
PRIORITY:3
TRANSP:0
END:VEVENT
END:VCALENDAR
