BEGIN:VCALENDAR
PRODID:-//AT Content Types//AT Event//EN
VERSION:2.0
METHOD:PUBLISH
BEGIN:VEVENT
DTSTAMP:20260421T112821Z
CREATED:20250225T125009Z
UID:ATEvent-4a5b4d524a418ceae6e8fd74067ac9f1
LAST-MODIFIED:20250225T125440Z
SUMMARY:Vortrag über die amerikanische Friedensbewegung
DTSTART:20250317T170000Z
DTEND:20250317T170000Z
LOCATION:Café Aufbruch\, Hintere Schildstr. 18\, Dortmund-Hörde
CATEGORIES:Vortrag
CLASS:PUBLIC
END:VEVENT
END:VCALENDAR
