BEGIN:VCALENDAR
PRODID:-//AT Content Types//AT Event//EN
VERSION:1.0
BEGIN:VEVENT
DTSTART:20250205T180000Z
DTEND:20250205T193000Z
DCREATED:20250128T143940Z
UID:ATEvent-f38f5aed94c71f9e633bdbc091ce6a3d
SEQUENCE:0
LAST-MODIFIED:20250203T195018Z
SUMMARY:Die Geschichtswerkstatt lädt ein\: Grubenunglück auf Minister Stein vor 100 Jahren
DESCRIPTION:Thema\: Vor 100 Jahren\: Grubenunglück auf Minister Stein
 
LOCATION:Café Aufbruch\, Hintere Schildstr. 18\, Dortmund-Hörde
PRIORITY:3
TRANSP:0
END:VEVENT
END:VCALENDAR
