BEGIN:VCALENDAR
PRODID:-//AT Content Types//AT Event//EN
VERSION:2.0
METHOD:PUBLISH
BEGIN:VEVENT
DTSTAMP:20260421T112653Z
CREATED:20241206T141817Z
UID:ATEvent-5e70d53795ce27c4fdb834f5a0bb56ae
LAST-MODIFIED:20241228T131236Z
SUMMARY:Lesung mit Werken der Dichterin  Mascha Kaléko
DTSTART:20250124T180000Z
DTEND:20250124T193000Z
DESCRIPTION:Mascha Kaléko - Eine Dichterin auf den Schwingen der Sehn
 sucht. Es lesen 7 Autorinnen der Schreibwerkstatt Dortmund Hörde und 
 des LiteraturRaums DortmundRuhr.
LOCATION:Café Aufbruch\, Hintere Schildstr. 18\, Dortmund-Hörde
CATEGORIES:Lesung
CLASS:PUBLIC
END:VEVENT
END:VCALENDAR
