BEGIN:VCALENDAR
PRODID:-//AT Content Types//AT Event//EN
VERSION:1.0
BEGIN:VEVENT
DTSTART:20250118T080000Z
DTEND:20250118T180000Z
DCREATED:20241228T173454Z
UID:ATEvent-3b0d653fbca98eeb7ce5f0dfb8d2860a
SEQUENCE:0
LAST-MODIFIED:20241228T173500Z
SUMMARY:Art in Pieces - Speed Puzzle Championship
LOCATION:Café Aufbruch\, Hintere Schildstr. 18\, Dortmund-Hörde
PRIORITY:3
TRANSP:0
END:VEVENT
END:VCALENDAR
