BEGIN:VCALENDAR
PRODID:-//AT Content Types//AT Event//EN
VERSION:2.0
METHOD:PUBLISH
BEGIN:VEVENT
DTSTAMP:20260421T112717Z
CREATED:20241027T183554Z
UID:ATEvent-4ec3946b4e8af4c6470eccbf8817edc5
LAST-MODIFIED:20241223T164832Z
SUMMARY:„Dies und Das“ - Gesprächskreis über Philosophie\, Geschichte\, Politik...
DTSTART:20241121T160000Z
DTEND:20241121T180000Z
DESCRIPTION:Thema\: Armut in Deutschland
LOCATION:Café Aufbruch\, Hintere Schildstr. 18\, Dortmund-Hörde
CATEGORIES:Vortrag mit Diskussion,publish@dortmund-initiativ
CLASS:PUBLIC
END:VEVENT
END:VCALENDAR
