BEGIN:VCALENDAR
PRODID:-//AT Content Types//AT Event//EN
VERSION:2.0
METHOD:PUBLISH
BEGIN:VEVENT
DTSTAMP:20260421T083117Z
CREATED:20240528T191000Z
UID:ATEvent-c46907c34b53319da67f1609faeaf67f
LAST-MODIFIED:20240916T193028Z
SUMMARY:„Dies und Das“ - Frigga Haug\: das gute Leben für Alle
DTSTART:20240919T150000Z
DTEND:20240919T170000Z
DESCRIPTION:Thema\: Frigga Haugs Vereinbarkeit von Familie\, Beruf\, P
 olitik und Kultur
LOCATION:Café Aufbruch\, Hintere Schildstr. 18\, 44263 Dortmund-Hörde
CATEGORIES:Vortrag mit Diskussion,publish@dortmund-initiativ
CLASS:PUBLIC
END:VEVENT
END:VCALENDAR
