BEGIN:VCALENDAR
PRODID:-//AT Content Types//AT Event//EN
VERSION:1.0
BEGIN:VEVENT
DTSTART:20240508T170000Z
DTEND:20240508T190000Z
DCREATED:20240227T225744Z
UID:ATEvent-48cd838faf79338ba992fee8498f48d4
SEQUENCE:0
LAST-MODIFIED:20240429T135241Z
SUMMARY:Veranstaltung der Geschichtswerkstatt - Das Zerbrochene Gewehr
DESCRIPTION:Thema\: Ein Symbol der Friedensbewegung - seit 115 Jahren
LOCATION:Café Aufbruch\, Hintere Schildstr. 18\, 44263 Dortmund-Hörde
PRIORITY:3
TRANSP:0
END:VEVENT
END:VCALENDAR
