BEGIN:VCALENDAR
PRODID:-//AT Content Types//AT Event//EN
VERSION:2.0
METHOD:PUBLISH
BEGIN:VEVENT
DTSTAMP:20260421T112526Z
CREATED:20240227T230504Z
UID:ATEvent-17ea28a7fc93653225f8e7176440c961
LAST-MODIFIED:20240313T223258Z
SUMMARY:„Dies und Das“ - Gesprächskreis über Philosophie\, Geschichte\, Politik...\: "Denk ich an Deutschland... Ein Dialog in Israel"
DTSTART:20240321T160000Z
DTEND:20240321T180000Z
DESCRIPTION:Thema\: "Denk ich an Deutschland... Ein Dialog in Israel" 
 ein Buch von Moshe Zimmermann und Moshe Zuckerman
LOCATION:Café Aufbruch\, Hintere Schildstr. 18\, Dortmund-Hörde
CATEGORIES:Vortrag mit Diskussion,publish@dortmund-initiativ
CLASS:PUBLIC
END:VEVENT
END:VCALENDAR
