BEGIN:VCALENDAR
PRODID:-//AT Content Types//AT Event//EN
VERSION:1.0
BEGIN:VEVENT
DTSTART:20240306T180000Z
DTEND:20240306T180000Z
DCREATED:20240227T225744Z
UID:ATEvent-a27b93c01b48e532c777c0ee04b2b5b9
SEQUENCE:0
LAST-MODIFIED:20240227T225957Z
SUMMARY:Veranstaltung der Geschichtswerkstatt
DESCRIPTION:Thema\: 108 Jahre Hausfrauenbund/ Netzwerk Haushalt - und 
 seine Auflösung
LOCATION:Café Aufbruch\, Hintere Schildstr. 18\, 44263 Dortmund-Hörde
PRIORITY:3
TRANSP:0
END:VEVENT
END:VCALENDAR
