BEGIN:VCALENDAR
PRODID:-//AT Content Types//AT Event//EN
VERSION:2.0
METHOD:PUBLISH
BEGIN:VEVENT
DTSTAMP:20260421T082106Z
CREATED:20220928T195029Z
UID:ATEvent-5d0bbe1a08d0447d0af6a405d6d7e335
LAST-MODIFIED:20250128T144946Z
SUMMARY:„Dies und Das“ - Gesprächskreis über Philosophie\, Geschichte\, Politik...
DTSTART:20240215T160000Z
DTEND:20240215T180000Z
DESCRIPTION:Heute\: Manipulation - der Unterschied zwischen überreden
  und überzeugen.
LOCATION:Café Aufbruch\, Hintere Schildstr. 18\, Dortmund-Hörde
CATEGORIES:Vortrag mit Diskussion,publish@dortmund-initiativ
CLASS:PUBLIC
END:VEVENT
END:VCALENDAR
