BEGIN:VCALENDAR
PRODID:-//AT Content Types//AT Event//EN
VERSION:2.0
METHOD:PUBLISH
BEGIN:VEVENT
DTSTAMP:20260421T095142Z
CREATED:20230221T232433Z
UID:ATEvent-c4decbfb3a6157b72077db98bbcb241e
LAST-MODIFIED:20250128T144822Z
SUMMARY:Veranstaltung der Geschichtswerkstatt
DTSTART:20240207T180000Z
DTEND:20240207T180000Z
DESCRIPTION:Angela Davis\: gegen Rassismus\, Sexismus und Klassengesel
 lschaft
LOCATION:Café Aufbruch\, Hintere Schildstr. 18\, 44263 Dortmund-Hörde
CLASS:PUBLIC
END:VEVENT
END:VCALENDAR
