BEGIN:VCALENDAR
PRODID:-//AT Content Types//AT Event//EN
VERSION:1.0
BEGIN:VEVENT
DTSTART:20240207T180000Z
DTEND:20240207T200000Z
DCREATED:20230221T232433Z
UID:ATEvent-a52a544e0e197e6216b3ced06de0f81f
SEQUENCE:0
LAST-MODIFIED:20240205T142033Z
SUMMARY:Veranstaltung der Geschichtswerkstatt\: Angela Davis
DESCRIPTION:Zum 80. Geburtstag von Angela Davis\: gegen Rassismus\, Se
 xismus und Klassengesellschaft
LOCATION:Café Aufbruch\, Hintere Schildstr. 18\, 44263 Dortmund-Hörde
PRIORITY:3
TRANSP:0
END:VEVENT
END:VCALENDAR
