BEGIN:VCALENDAR
PRODID:-//AT Content Types//AT Event//EN
VERSION:2.0
METHOD:PUBLISH
BEGIN:VEVENT
DTSTAMP:20260421T112352Z
CREATED:20100414T140918Z
UID:ATEvent-fc2c0d984936c736a458558f42f34fc8
LAST-MODIFIED:20100414T141513Z
SUMMARY:„The Swing Brothers“
DTSTART:20100507T173000Z
DTEND:20100507T193000Z
DESCRIPTION:Eric Richards als „the piano man“ und studierter Bassi
 st in vielen namhaften Combos zuhause – Piano\, Kontrabass. \nPeter 
 Sturm\, u.a. Sänger von „Kinderlech“ und  „Romberg Klezmer“ u
 nd in v. a. Ensembles - Gesang\, Rhythmusgitarre\, Geige\, Percussion
LOCATION:Café Aufbruch\, Hintere Schildstr. 18\, Dortmund-Hörde
CATEGORIES:Musik
URL:http://www.peter-sturm.net
CLASS:PUBLIC
END:VEVENT
END:VCALENDAR
