BEGIN:VCALENDAR
PRODID:-//AT Content Types//AT Event//EN
VERSION:2.0
METHOD:PUBLISH
BEGIN:VEVENT
DTSTAMP:20260421T112414Z
CREATED:20180602T110744Z
UID:ATEvent-9d973daf6a43ef5049d978ffeee5cc35
LAST-MODIFIED:20180602T111710Z
SUMMARY:„Mal grundsätzlich – Lieder eines Clowns“
DTSTART:20180609T160000Z
DTEND:20180609T173000Z
DESCRIPTION:Bernd Möller\, Liedermacher und Clown aus Solingen \,\ner
 zählt Geschichten aus seinem Leben und übers \nLeben an sich !
LOCATION:Café Aufbruch\, Hintere Schildstraße 18
CATEGORIES:Kulturveranstaltung
URL:http://www.von-innen-erklingen.de/
CLASS:PUBLIC
END:VEVENT
END:VCALENDAR
