BEGIN:VCALENDAR
PRODID:-//AT Content Types//AT Event//EN
VERSION:2.0
METHOD:PUBLISH
BEGIN:VEVENT
DTSTAMP:20260421T112528Z
CREATED:20090723T172750Z
UID:ATEvent-2b6e2ac8df27610218fbedf0a53871ee
LAST-MODIFIED:20180602T110441Z
SUMMARY:Veranstaltung der Geschichtswerkstatt\: „Der Umbruch der 68er Zeit in Dortmund“
DTSTART:20180606T170000Z
DTEND:20180606T183000Z
LOCATION:Café Aufbruch\, Hintere Schildstrasse 18
CATEGORIES:Geschichtswerkstatt
CLASS:PUBLIC
END:VEVENT
END:VCALENDAR
