BEGIN:VCALENDAR
PRODID:-//AT Content Types//AT Event//EN
VERSION:1.0
BEGIN:VEVENT
DTSTART:20140305T160000Z
DTEND:20140305T170000Z
DCREATED:20100126T104236Z
UID:ATEvent-afdddfaa857f55cde99f5b1c274814b9
SEQUENCE:0
LAST-MODIFIED:20140205T170920Z
SUMMARY:Informationsveranstaltung über gesunde Ernährung
LOCATION:Café Aufbruch\, Hintere Schildstr. 18\, Do-Hörde
PRIORITY:3
TRANSP:0
END:VEVENT
END:VCALENDAR
