BEGIN:VCALENDAR
PRODID:-//AT Content Types//AT Event//EN
VERSION:2.0
METHOD:PUBLISH
BEGIN:VEVENT
DTSTAMP:20260421T082247Z
CREATED:20080511T192718Z
UID:ATEvent-14c5ad7a64a74e931c2e18cdb850d9e6
LAST-MODIFIED:20131002T075426Z
SUMMARY:Matriarchaler Kulturkreis
DTSTART:20131005T120000Z
DTEND:20131005T133000Z
DESCRIPTION:Heute\: Treffen der GODEN (für matriarchale Belange ihrer
  Region verantwortliche Frauen). Gefeiert wird der Beginn des Herbstes
  im Cafe´ Aufbruch und den Marksbachgärten.
LOCATION:Café Aufbruch\, Hintere Schildstr. 18\, Do-Hörde
CATEGORIES:Gesprächsrunde
CLASS:PUBLIC
END:VEVENT
END:VCALENDAR
