BEGIN:VCALENDAR
PRODID:-//AT Content Types//AT Event//EN
VERSION:2.0
METHOD:PUBLISH
BEGIN:VEVENT
DTSTAMP:20260421T082053Z
CREATED:20120102T010000Z
UID:ATEvent-9fb8f29ebe05dd81547dbc88d0f59c72
LAST-MODIFIED:20120424T093324Z
SUMMARY:Aufbruch-Treffen\: "Incredible Edible" - "Unglaublich Essbar"
DTSTART:20120428T150000Z
DTEND:20120428T180000Z
DESCRIPTION:In einem Ort in England haben 2007 einige Leute angefangen
  in der ganzen Stadt verteilt Obst und Gemüse anzubauen und für alle
  Menschen zugänglich zu machen. Das Projekt hat dort erstaunliche Aus
 wirkungen gehabt\, sehr schnell viele Freunde gefunden und auch Nachah
 mer/innen in anderen Ländern.\nWir wollen heute vor dem Café Aufbruc
 h  eine Pflanzaktion starten...
LOCATION:Café Aufbruch\, Hintere Schildstr. 18\, Dortmund-Hörde
CATEGORIES:Aktionen
URL:http://www.anders-besser-leben.de
CLASS:PUBLIC
END:VEVENT
END:VCALENDAR
