BEGIN:VCALENDAR
PRODID:-//AT Content Types//AT Event//EN
VERSION:1.0
BEGIN:VEVENT
DTSTART:20130528T140000Z
DTEND:20130528T153000Z
DCREATED:20090223T212516Z
UID:ATEvent-402e1100212a2b0c38cc0f290ff3ee66
SEQUENCE:0
LAST-MODIFIED:20130430T090620Z
SUMMARY:Nadel und Faden im Café
DESCRIPTION:Es wird gestrickt\, gehäkelt\, gesponnen und erzählt.
LOCATION:Café Aufbruch\, Hintere Schildstr. 18\, Do-Hörde
PRIORITY:3
TRANSP:0
END:VEVENT
END:VCALENDAR
