BEGIN:VCALENDAR
PRODID:-//AT Content Types//AT Event//EN
VERSION:2.0
METHOD:PUBLISH
BEGIN:VEVENT
DTSTAMP:20260421T112718Z
CREATED:20090223T212516Z
UID:ATEvent-f6ed84433310cb1f2c3f525c64cf0ade
LAST-MODIFIED:20140226T200606Z
SUMMARY:Nadel und Faden im Café
DTSTART:20140311T150000Z
DTEND:20140311T163000Z
DESCRIPTION:Es wird gestrickt\, gehäkelt\, gesponnen und erzählt.
LOCATION:Café Aufbruch\, Hintere Schildstr. 18\, Do-Hörde
CATEGORIES:Kreativwerkstatt
CLASS:PUBLIC
END:VEVENT
END:VCALENDAR
