BEGIN:VCALENDAR
PRODID:-//AT Content Types//AT Event//EN
VERSION:1.0
BEGIN:VEVENT
DTSTART:20090131T140000Z
DTEND:20090131T153000Z
DCREATED:20080511T192718Z
UID:ATEvent-f9d76acc3280684980849fe01f3969bd
SEQUENCE:0
LAST-MODIFIED:20090125T164306Z
SUMMARY:Matriarchaler Kulturkreis
LOCATION:Café Aufbruch\, Hintere Schildstr. 18\, Do-Hörde
PRIORITY:3
TRANSP:0
END:VEVENT
END:VCALENDAR
