BEGIN:VCALENDAR
PRODID:-//AT Content Types//AT Event//EN
VERSION:2.0
METHOD:PUBLISH
BEGIN:VEVENT
DTSTAMP:20260421T112347Z
CREATED:20081228T210845Z
UID:ATEvent-450852c2ce8b92462ae9b26aed21ecc3
LAST-MODIFIED:20090123T152041Z
SUMMARY:Konzert\: Der Clarenberg-Chor
DTSTART:20090130T183000Z
DTEND:20090130T203000Z
DESCRIPTION:Der Clarenberg-Chor ist ein gemischter Chor mit Solisten.
LOCATION:Café Aufbruch\, Hintere Schildstr. 18\, Dortmund-Hörde
CATEGORIES:Musik
CLASS:PUBLIC
END:VEVENT
END:VCALENDAR
