BEGIN:VCALENDAR
PRODID:-//AT Content Types//AT Event//EN
VERSION:2.0
METHOD:PUBLISH
BEGIN:VEVENT
DTSTAMP:20260421T112058Z
CREATED:20070425T104612Z
UID:ATEvent-c055d2a8c1ead58763db4ef9392411ef
LAST-MODIFIED:20090123T152040Z
SUMMARY:Einführung in die Nutzung freier Software
DTSTART:20090128T190000Z
DTEND:20090128T203000Z
DESCRIPTION:(Neue) AnwenderInnen freier Software erlernen die wichtigs
 ten Zusammenhänge und Anwendungsprogramme für den Alltagsgebrauch ih
 res (befreiten\:) Computers
LOCATION:Café Aufbruch\, Hintere Schildstr. 18\, Do-Hörde
CATEGORIES:Computerkurs
CONTACT:cafe-aufbruch@dieseswortloeschen.free.de
CLASS:PUBLIC
END:VEVENT
END:VCALENDAR
