BEGIN:VCALENDAR
PRODID:-//AT Content Types//AT Event//EN
VERSION:2.0
METHOD:PUBLISH
BEGIN:VEVENT
DTSTAMP:20260421T112059Z
CREATED:20081228T210214Z
UID:ATEvent-cf162a9b027fc98580074d2d50691420
LAST-MODIFIED:20090123T152041Z
SUMMARY:Lesung und Diskussion\: "Reformer und Revolutionäre vor 1848"
DTSTART:20090123T183000Z
DTEND:20090123T203000Z
DESCRIPTION:Einladung zum philosophischen Café\: Tork Pöttschke ist 
 dabei.
LOCATION:Café Aufbruch\, Hintere Schildstr. 18\, Dortmund-Hörde
CATEGORIES:Vortrag mit Diskussion
CLASS:PUBLIC
END:VEVENT
END:VCALENDAR
