BEGIN:VCALENDAR
PRODID:-//AT Content Types//AT Event//EN
VERSION:2.0
METHOD:PUBLISH
BEGIN:VEVENT
DTSTAMP:20260421T112229Z
CREATED:20070806T105207Z
UID:ATEvent-d9a3a2f54df50e22481c2a135a7f56ac
LAST-MODIFIED:20090123T152041Z
SUMMARY:Aufbruch-Treffen
DTSTART:20090117T160000Z
DTEND:20090117T190000Z
DESCRIPTION:Monatliches Treffen der Initiative „Aufbruch - anders be
 sser leben“. Austausch\, Informationen\, gemeinsam essen (traditione
 ll bringt jede(r) etwas mit).
LOCATION:Café Aufbruch\, Hintere Schildstr. 18\, Dortmund-Hörde
CATEGORIES:Gesprächsrunde
CLASS:PUBLIC
END:VEVENT
END:VCALENDAR
