BEGIN:VCALENDAR
PRODID:-//AT Content Types//AT Event//EN
VERSION:2.0
METHOD:PUBLISH
BEGIN:VEVENT
DTSTAMP:20260421T112157Z
CREATED:20080626T101557Z
UID:ATEvent-075de912b38a336fc70a41426461ad7a
LAST-MODIFIED:20090201T211522Z
SUMMARY:Organisationstreffen der Mitarbeitenden
DTSTART:20090106T163000Z
DTEND:20090106T190000Z
DESCRIPTION:Die MitarbeiterInnen des Café Aufbruch und Mitglieder der
  Aufbruchinitiative treffen sich um Organisationsfragen zu besprechen.
 
LOCATION:Café Aufbruch\, Hintere Schildstr. 18\, Do-Hörde
CATEGORIES:Arbeitstreffen
CLASS:PUBLIC
END:VEVENT
END:VCALENDAR
