BEGIN:VCALENDAR
PRODID:-//AT Content Types//AT Event//EN
VERSION:1.0
BEGIN:VEVENT
DTSTART:20081208T190000Z
DTEND:20081208T203000Z
DCREATED:20080511T164320Z
UID:ATEvent-13b7200c653131a71de7bbb600a6654a
SEQUENCE:0
LAST-MODIFIED:20090123T152041Z
SUMMARY:Gesprächskreis
DESCRIPTION:über das Buch "Integrale Spiritualität" von Ken Wilber.
LOCATION:Café Aufbruch\, Hintere Schildstr. 18\, Do-Hörde
PRIORITY:3
TRANSP:0
END:VEVENT
END:VCALENDAR
