BEGIN:VCALENDAR
PRODID:-//AT Content Types//AT Event//EN
VERSION:1.0
BEGIN:VEVENT
DTSTART:20081119T183000Z
DTEND:20081119T203000Z
DCREATED:20081101T210705Z
UID:ATEvent-71c0755f3f7720a554af03af696fa7db
SEQUENCE:0
LAST-MODIFIED:20090123T152040Z
SUMMARY:Film über das Bedingungslose Grundeinkommen
DESCRIPTION:Wir zeigen einen Film über das Zukunftsthema\, das jeden 
 angeht\:\nEine neue Art von Einkommen\, bedingungslos für alle. Mehr 
 Möglichkeiten zur eigenen Initiative?  \nOder der Untergang der Leist
 ungsgesellschaft?\nDer Film mischt Festgefahrenes auf\, zeigt\nÜberra
 schendes\, lässt mit- und weiter denken.
LOCATION:Café Aufbruch\, Hintere Schildstr. 18\, Dortmund-Hörde
PRIORITY:3
TRANSP:0
END:VEVENT
END:VCALENDAR
