BEGIN:VCALENDAR
PRODID:-//AT Content Types//AT Event//EN
VERSION:1.0
BEGIN:VEVENT
DTSTART:20081114T160000Z
DTEND:20081114T173000Z
DCREATED:20070616T131527Z
UID:ATEvent-5c179a89e01ce09907ca4b3e6f11078a
SEQUENCE:0
LAST-MODIFIED:20090123T152040Z
SUMMARY:Frauencafé Couragina
DESCRIPTION:Heute\: Bericht über eine Frauen-Studienreise in die Tür
 kei.\nReferentin\: Aysel Ilgün-Tymm
LOCATION:Café Aufbruch\, Hintere Schildstr. 18\, Do-Hörde
PRIORITY:3
TRANSP:0
END:VEVENT
END:VCALENDAR
